BEGIN:VCALENDAR
VERSION:2.0
PRODID:-//NADI Patiambun - ECPv6.15.13.1//NONSGML v1.0//EN
CALSCALE:GREGORIAN
METHOD:PUBLISH
X-WR-CALNAME:NADI Patiambun
X-ORIGINAL-URL:https://patiambun.nadi.my
X-WR-CALDESC:Events for NADI Patiambun
REFRESH-INTERVAL;VALUE=DURATION:PT1H
X-Robots-Tag:noindex
X-PUBLISHED-TTL:PT1H
BEGIN:VTIMEZONE
TZID:UTC
BEGIN:STANDARD
TZOFFSETFROM:+0000
TZOFFSETTO:+0000
TZNAME:UTC
DTSTART:20240101T000000
END:STANDARD
END:VTIMEZONE
BEGIN:VEVENT
DTSTART;VALUE=DATE:20250101
DTEND;VALUE=DATE:20250201
DTSTAMP:20260421T114005
CREATED:20241231T071245Z
LAST-MODIFIED:20241231T071245Z
UID:2004-1735689600-1738367999@patiambun.nadi.my
SUMMARY:JOM SARING DI NADI!
DESCRIPTION:Pemeriksaan kesihatan seperti tekanan darah\, cek paras gula dan BMI secara walk-in ke NADI.
URL:https://patiambun.nadi.my/event/jom-saring-di-nadi/
LOCATION:NADI Patiambun
END:VEVENT
BEGIN:VEVENT
DTSTART;VALUE=DATE:20250101
DTEND;VALUE=DATE:20250201
DTSTAMP:20260421T114005
CREATED:20250109T012631Z
LAST-MODIFIED:20250109T012631Z
UID:2162-1735689600-1738367999@patiambun.nadi.my
SUMMARY:Pendaftaran Sarawak ID (SKAS)
DESCRIPTION:Program bertujuan untuk membantu komuniti mendaftar Sarawak ID supaya dapat menuntut bantuan daripada Kerajaan Negeri Sarawak.
URL:https://patiambun.nadi.my/event/pendaftaran-sarawak-id-skas/
LOCATION:NADI Patiambun
END:VEVENT
BEGIN:VEVENT
DTSTART;TZID=UTC:20250101T080000
DTEND;TZID=UTC:20250131T170000
DTSTAMP:20260421T114005
CREATED:20241231T071441Z
LAST-MODIFIED:20241231T071441Z
UID:2007-1735718400-1738342800@patiambun.nadi.my
SUMMARY:MYDIGITAL ID
DESCRIPTION:Untuk membantu komuniti mendaftar akaun MyDigital ID
URL:https://patiambun.nadi.my/event/mydigital-id/
LOCATION:NADI Patiambun
END:VEVENT
END:VCALENDAR