BEGIN:VCALENDAR
VERSION:2.0
PRODID:-//NADI Patiambun - ECPv6.15.13.1//NONSGML v1.0//EN
CALSCALE:GREGORIAN
METHOD:PUBLISH
X-WR-CALNAME:NADI Patiambun
X-ORIGINAL-URL:https://patiambun.nadi.my
X-WR-CALDESC:Events for NADI Patiambun
REFRESH-INTERVAL;VALUE=DURATION:PT1H
X-Robots-Tag:noindex
X-PUBLISHED-TTL:PT1H
BEGIN:VTIMEZONE
TZID:UTC
BEGIN:STANDARD
TZOFFSETFROM:+0000
TZOFFSETTO:+0000
TZNAME:UTC
DTSTART:20240101T000000
END:STANDARD
END:VTIMEZONE
BEGIN:VEVENT
DTSTART;TZID=UTC:20250920T100000
DTEND;TZID=UTC:20250920T120000
DTSTAMP:20260419T153658
CREATED:20250918T004244Z
LAST-MODIFIED:20250918T004244Z
UID:3086-1758362400-1758369600@patiambun.nadi.my
SUMMARY:KIDVENTURE COHORT 6: WEBINAR (OPERASI PERNIAGAAN)
DESCRIPTION:
URL:https://patiambun.nadi.my/event/kidventure-cohort-6-webinar-operasi-perniagaan/
LOCATION:NADI Patiambun
END:VEVENT
END:VCALENDAR