BEGIN:VCALENDAR
VERSION:2.0
PRODID:-//NADI Patiambun - ECPv6.15.13.1//NONSGML v1.0//EN
CALSCALE:GREGORIAN
METHOD:PUBLISH
X-WR-CALNAME:NADI Patiambun
X-ORIGINAL-URL:https://patiambun.nadi.my
X-WR-CALDESC:Events for NADI Patiambun
REFRESH-INTERVAL;VALUE=DURATION:PT1H
X-Robots-Tag:noindex
X-PUBLISHED-TTL:PT1H
BEGIN:VTIMEZONE
TZID:UTC
BEGIN:STANDARD
TZOFFSETFROM:+0000
TZOFFSETTO:+0000
TZNAME:UTC
DTSTART:20230101T000000
END:STANDARD
END:VTIMEZONE
BEGIN:VEVENT
DTSTART;TZID=UTC:20240721T090000
DTEND;TZID=UTC:20240721T120000
DTSTAMP:20260423T182910
CREATED:20240701T103220Z
LAST-MODIFIED:20240701T103220Z
UID:1942-1721552400-1721563200@patiambun.nadi.my
SUMMARY:Kelas Kemahiran Keusahawanan
DESCRIPTION:
URL:https://patiambun.nadi.my/event/kelas-kemahiran-keusahawanan-2/
CATEGORIES:DEFAULT
END:VEVENT
BEGIN:VEVENT
DTSTART;TZID=UTC:20240719T143000
DTEND;TZID=UTC:20240719T163000
DTSTAMP:20260423T182910
CREATED:20240701T103147Z
LAST-MODIFIED:20240701T103147Z
UID:1941-1721399400-1721406600@patiambun.nadi.my
SUMMARY:Kelas Pengenalan Spay Global "Go Cashless"
DESCRIPTION:
URL:https://patiambun.nadi.my/event/kelas-pengenalan-spay-global-go-cashless/
CATEGORIES:DEFAULT
END:VEVENT
BEGIN:VEVENT
DTSTART;TZID=UTC:20240713T140000
DTEND;TZID=UTC:20240713T160000
DTSTAMP:20260423T182910
CREATED:20240701T103046Z
LAST-MODIFIED:20240701T103046Z
UID:1940-1720879200-1720886400@patiambun.nadi.my
SUMMARY:Kelas ICT: Kelas Asas Ms Power Point
DESCRIPTION:
URL:https://patiambun.nadi.my/event/kelas-ict-kelas-asas-ms-power-point/
CATEGORIES:DEFAULT
END:VEVENT
BEGIN:VEVENT
DTSTART;TZID=UTC:20240711T140000
DTEND;TZID=UTC:20240711T160000
DTSTAMP:20260423T182910
CREATED:20240701T102959Z
LAST-MODIFIED:20240701T102959Z
UID:1939-1720706400-1720713600@patiambun.nadi.my
SUMMARY:Kelas CANVA:DIY Video Kad Jemputan
DESCRIPTION:
URL:https://patiambun.nadi.my/event/kelas-canvadiy-video-kad-jemputan/
CATEGORIES:DEFAULT
END:VEVENT
BEGIN:VEVENT
DTSTART;TZID=UTC:20240706T140000
DTEND;TZID=UTC:20240706T160000
DTSTAMP:20260423T182910
CREATED:20240701T102531Z
LAST-MODIFIED:20240701T102531Z
UID:1938-1720274400-1720281600@patiambun.nadi.my
SUMMARY:Kelas ICT: Kelas Asas MS Word
DESCRIPTION:
URL:https://patiambun.nadi.my/event/kelas-ict-kelas-asas-ms-word/
CATEGORIES:DEFAULT
END:VEVENT
BEGIN:VEVENT
DTSTART;TZID=UTC:20240701T000000
DTEND;TZID=UTC:20240731T235959
DTSTAMP:20260423T182910
CREATED:20240701T103302Z
LAST-MODIFIED:20240701T103302Z
UID:1943-1719792000-1722470399@patiambun.nadi.my
SUMMARY:Sesi Klik Dengan Bijak & Kahoot
DESCRIPTION:
URL:https://patiambun.nadi.my/event/sesi-klik-dengan-bijak-kahoot/
CATEGORIES:DEFAULT
END:VEVENT
BEGIN:VEVENT
DTSTART;TZID=UTC:20240622T090000
DTEND;TZID=UTC:20240622T120000
DTSTAMP:20260423T182910
CREATED:20240610T092425Z
LAST-MODIFIED:20240610T092425Z
UID:1935-1719046800-1719057600@patiambun.nadi.my
SUMMARY:Kelas ICT: MS Powerpoint
DESCRIPTION:
URL:https://patiambun.nadi.my/event/kelas-ict-ms-powerpoint/
CATEGORIES:DEFAULT
END:VEVENT
BEGIN:VEVENT
DTSTART;TZID=UTC:20240616T140000
DTEND;TZID=UTC:20240616T160000
DTSTAMP:20260423T182910
CREATED:20240610T092335Z
LAST-MODIFIED:20240610T092335Z
UID:1934-1718546400-1718553600@patiambun.nadi.my
SUMMARY:Kelas Canva: Business Sticker
DESCRIPTION:
URL:https://patiambun.nadi.my/event/kelas-canva-business-sticker/
CATEGORIES:DEFAULT
END:VEVENT
BEGIN:VEVENT
DTSTART;TZID=UTC:20240615T140000
DTEND;TZID=UTC:20240615T160000
DTSTAMP:20260423T182910
CREATED:20240610T092228Z
LAST-MODIFIED:20240610T092228Z
UID:1933-1718460000-1718467200@patiambun.nadi.my
SUMMARY:Kelas Pengenalan S Pay Global "Go Cashless"
DESCRIPTION:
URL:https://patiambun.nadi.my/event/kelas-pengenalan-s-pay-global-go-cashless/
CATEGORIES:DEFAULT
END:VEVENT
BEGIN:VEVENT
DTSTART;TZID=UTC:20240612T000000
DTEND;TZID=UTC:20240612T235959
DTSTAMP:20260423T182910
CREATED:20240610T090905Z
LAST-MODIFIED:20240610T090905Z
UID:1932-1718150400-1718236799@patiambun.nadi.my
SUMMARY:Kelas Resume dan Persediaan Temuduga
DESCRIPTION:
URL:https://patiambun.nadi.my/event/kelas-resume-dan-persediaan-temuduga/
CATEGORIES:DEFAULT
END:VEVENT
BEGIN:VEVENT
DTSTART;TZID=UTC:20240610T080000
DTEND;TZID=UTC:20240630T170000
DTSTAMP:20260423T182910
CREATED:20240610T092525Z
LAST-MODIFIED:20240610T092525Z
UID:1936-1718006400-1719766800@patiambun.nadi.my
SUMMARY:Program KDB
DESCRIPTION:
URL:https://patiambun.nadi.my/event/program-kdb/
CATEGORIES:DEFAULT
END:VEVENT
BEGIN:VEVENT
DTSTART;TZID=UTC:20240608T140000
DTEND;TZID=UTC:20240608T160000
DTSTAMP:20260423T182910
CREATED:20240610T145006Z
LAST-MODIFIED:20240610T145006Z
UID:1937-1717855200-1717862400@patiambun.nadi.my
SUMMARY:Kelas ICT: MS Word
DESCRIPTION:
URL:https://patiambun.nadi.my/event/kelas-ict-ms-word-2/
CATEGORIES:DEFAULT
END:VEVENT
BEGIN:VEVENT
DTSTART;TZID=UTC:20240608T140000
DTEND;TZID=UTC:20240608T160000
DTSTAMP:20260423T182910
CREATED:20240610T090659Z
LAST-MODIFIED:20240610T090659Z
UID:1931-1717855200-1717862400@patiambun.nadi.my
SUMMARY:Kelas ICT: MS Word
DESCRIPTION:
URL:https://patiambun.nadi.my/event/kelas-ict-ms-word/
CATEGORIES:DEFAULT
END:VEVENT
BEGIN:VEVENT
DTSTART;TZID=UTC:20240525T090000
DTEND;TZID=UTC:20240525T120000
DTSTAMP:20260423T182910
CREATED:20240507T093710Z
LAST-MODIFIED:20240507T093710Z
UID:1929-1716627600-1716638400@patiambun.nadi.my
SUMMARY:Kelas Keusahawanan: CANVA for Business
DESCRIPTION:
URL:https://patiambun.nadi.my/event/kelas-keusahawanan-canva-for-business/
CATEGORIES:DEFAULT
END:VEVENT
BEGIN:VEVENT
DTSTART;TZID=UTC:20240518T140000
DTEND;TZID=UTC:20240518T160000
DTSTAMP:20260423T182910
CREATED:20240507T093604Z
LAST-MODIFIED:20240507T093604Z
UID:1928-1716040800-1716048000@patiambun.nadi.my
SUMMARY:Kelas ICT:Power Typing
DESCRIPTION:
URL:https://patiambun.nadi.my/event/kelas-ictpower-typing/
CATEGORIES:DEFAULT
END:VEVENT
BEGIN:VEVENT
DTSTART;TZID=UTC:20240511T140000
DTEND;TZID=UTC:20240511T160000
DTSTAMP:20260423T182910
CREATED:20240507T093459Z
LAST-MODIFIED:20240507T093459Z
UID:1927-1715436000-1715443200@patiambun.nadi.my
SUMMARY:Kelas Canva: Kad Hari Guru/ Hari Ibu
DESCRIPTION:
URL:https://patiambun.nadi.my/event/kelas-canva-kad-hari-guru-hari-ibu/
CATEGORIES:DEFAULT
END:VEVENT
BEGIN:VEVENT
DTSTART;TZID=UTC:20240509T140000
DTEND;TZID=UTC:20240509T160000
DTSTAMP:20260423T182910
CREATED:20240507T093301Z
LAST-MODIFIED:20240507T093301Z
UID:1926-1715263200-1715270400@patiambun.nadi.my
SUMMARY:Kelas Keusahawanan: Bouquet Hari Guru / Hari Ibu
DESCRIPTION:
URL:https://patiambun.nadi.my/event/kelas-keusahawanan-bouquet-hari-guru-hari-ibu/
CATEGORIES:DEFAULT
END:VEVENT
BEGIN:VEVENT
DTSTART;TZID=UTC:20240509T133000
DTEND;TZID=UTC:20240509T170000
DTSTAMP:20260423T182910
CREATED:20240507T094126Z
LAST-MODIFIED:20240507T094126Z
UID:1930-1715261400-1715274000@patiambun.nadi.my
SUMMARY:Kelas Latihan Pengendalian Makanan
DESCRIPTION:
URL:https://patiambun.nadi.my/event/kelas-latihan-pengendalian-makanan/
CATEGORIES:DEFAULT
END:VEVENT
BEGIN:VEVENT
DTSTART;TZID=UTC:20240427T093000
DTEND;TZID=UTC:20240427T113000
DTSTAMP:20260423T182910
CREATED:20240408T101140Z
LAST-MODIFIED:20240408T101140Z
UID:1925-1714210200-1714217400@patiambun.nadi.my
SUMMARY:Kelas Stem/IOT
DESCRIPTION:
URL:https://patiambun.nadi.my/event/kelas-stem-iot-3/
CATEGORIES:DEFAULT
END:VEVENT
BEGIN:VEVENT
DTSTART;TZID=UTC:20240421T093000
DTEND;TZID=UTC:20240421T120000
DTSTAMP:20260423T182910
CREATED:20240408T100807Z
LAST-MODIFIED:20240408T100807Z
UID:1923-1713691800-1713700800@patiambun.nadi.my
SUMMARY:Kelas Keusahawanan:Jom Buat Duit Dengan Affiliate TIKTOK
DESCRIPTION:
URL:https://patiambun.nadi.my/event/kelas-keusahawananjom-buat-duit-dengan-affiliate-tiktok/
CATEGORIES:DEFAULT
END:VEVENT
BEGIN:VEVENT
DTSTART;TZID=UTC:20240420T143000
DTEND;TZID=UTC:20240420T160000
DTSTAMP:20260423T182910
CREATED:20240408T100704Z
LAST-MODIFIED:20240408T100704Z
UID:1922-1713623400-1713628800@patiambun.nadi.my
SUMMARY:Kelas Asas Microsoft word
DESCRIPTION:
URL:https://patiambun.nadi.my/event/kelas-asas-microsoft-word-4/
CATEGORIES:DEFAULT
END:VEVENT
BEGIN:VEVENT
DTSTART;TZID=UTC:20240402T080000
DTEND;TZID=UTC:20240430T170000
DTSTAMP:20260423T182910
CREATED:20240408T100927Z
LAST-MODIFIED:20240408T100927Z
UID:1924-1712044800-1714496400@patiambun.nadi.my
SUMMARY:Kursus Latihan Pengendalian Makanan
DESCRIPTION:
URL:https://patiambun.nadi.my/event/kursus-latihan-pengendalian-makanan-2/
CATEGORIES:DEFAULT
END:VEVENT
BEGIN:VEVENT
DTSTART;TZID=UTC:20240323T093000
DTEND;TZID=UTC:20240323T113000
DTSTAMP:20260423T182910
CREATED:20240307T092732Z
LAST-MODIFIED:20240307T092732Z
UID:1921-1711186200-1711193400@patiambun.nadi.my
SUMMARY:Kelas Keusahawanan:Kelas Affiliate Tiktok & Asas Shopee
DESCRIPTION:
URL:https://patiambun.nadi.my/event/kelas-keusahawanankelas-affiliate-tiktok-asas-shopee/
CATEGORIES:DEFAULT
END:VEVENT
BEGIN:VEVENT
DTSTART;TZID=UTC:20240317T143000
DTEND;TZID=UTC:20240317T160000
DTSTAMP:20260423T182910
CREATED:20240307T091529Z
LAST-MODIFIED:20240307T091529Z
UID:1918-1710685800-1710691200@patiambun.nadi.my
SUMMARY:Kelas Asas Microsoft Word
DESCRIPTION:
URL:https://patiambun.nadi.my/event/kelas-asas-microsoft-word-3/
CATEGORIES:DEFAULT
END:VEVENT
BEGIN:VEVENT
DTSTART;TZID=UTC:20240316T093000
DTEND;TZID=UTC:20240316T120000
DTSTAMP:20260423T182910
CREATED:20240307T092228Z
LAST-MODIFIED:20240307T092228Z
UID:1919-1710581400-1710590400@patiambun.nadi.my
SUMMARY:Kelas STEM/IOT
DESCRIPTION:
URL:https://patiambun.nadi.my/event/kelas-stem-iot-2/
CATEGORIES:DEFAULT
END:VEVENT
BEGIN:VEVENT
DTSTART;TZID=UTC:20240310T143000
DTEND;TZID=UTC:20240310T160000
DTSTAMP:20260423T182910
CREATED:20240307T091435Z
LAST-MODIFIED:20240307T091435Z
UID:1917-1710081000-1710086400@patiambun.nadi.my
SUMMARY:Kelas Asas Microsoft Word
DESCRIPTION:
URL:https://patiambun.nadi.my/event/kelas-asas-microsoft-word-2/
CATEGORIES:DEFAULT
END:VEVENT
BEGIN:VEVENT
DTSTART;TZID=UTC:20240301T000000
DTEND;TZID=UTC:20240330T235959
DTSTAMP:20260423T182910
CREATED:20240307T092506Z
LAST-MODIFIED:20240307T092506Z
UID:1920-1709251200-1711843199@patiambun.nadi.my
SUMMARY:Kursus latihan Pengendalian Makanan
DESCRIPTION:
URL:https://patiambun.nadi.my/event/kursus-latihan-pengendalian-makanan/
CATEGORIES:DEFAULT
END:VEVENT
BEGIN:VEVENT
DTSTART;TZID=UTC:20240225T090000
DTEND;TZID=UTC:20240225T140000
DTSTAMP:20260423T182910
CREATED:20240203T111250Z
LAST-MODIFIED:20240203T111250Z
UID:1916-1708851600-1708869600@patiambun.nadi.my
SUMMARY:Keusahawan:Tamu PEDI Patiambun
DESCRIPTION:
URL:https://patiambun.nadi.my/event/keusahawantamu-pedi-patiambun/
CATEGORIES:DEFAULT
END:VEVENT
BEGIN:VEVENT
DTSTART;TZID=UTC:20240224T090000
DTEND;TZID=UTC:20240224T130000
DTSTAMP:20260423T182910
CREATED:20240203T111206Z
LAST-MODIFIED:20240203T111206Z
UID:1915-1708765200-1708779600@patiambun.nadi.my
SUMMARY:PEDI Mini Program 2024
DESCRIPTION:
URL:https://patiambun.nadi.my/event/pedi-mini-program-2024/
CATEGORIES:DEFAULT
END:VEVENT
BEGIN:VEVENT
DTSTART;TZID=UTC:20240218T093000
DTEND;TZID=UTC:20240218T120000
DTSTAMP:20260423T182910
CREATED:20240203T111109Z
LAST-MODIFIED:20240203T111109Z
UID:1914-1708248600-1708257600@patiambun.nadi.my
SUMMARY:Kelas Stem/IOT
DESCRIPTION:
URL:https://patiambun.nadi.my/event/kelas-stem-iot/
CATEGORIES:DEFAULT
END:VEVENT
END:VCALENDAR