BEGIN:VCALENDAR
VERSION:2.0
PRODID:-//NADI Patiambun - ECPv6.15.13.1//NONSGML v1.0//EN
CALSCALE:GREGORIAN
METHOD:PUBLISH
X-WR-CALNAME:NADI Patiambun
X-ORIGINAL-URL:https://patiambun.nadi.my
X-WR-CALDESC:Events for NADI Patiambun
REFRESH-INTERVAL;VALUE=DURATION:PT1H
X-Robots-Tag:noindex
X-PUBLISHED-TTL:PT1H
BEGIN:VTIMEZONE
TZID:UTC
BEGIN:STANDARD
TZOFFSETFROM:+0000
TZOFFSETTO:+0000
TZNAME:UTC
DTSTART:20220101T000000
END:STANDARD
END:VTIMEZONE
BEGIN:VEVENT
DTSTART;TZID=UTC:20240420T143000
DTEND;TZID=UTC:20240420T160000
DTSTAMP:20260424T150559
CREATED:20240408T100704Z
LAST-MODIFIED:20240408T100704Z
UID:1922-1713623400-1713628800@patiambun.nadi.my
SUMMARY:Kelas Asas Microsoft word
DESCRIPTION:
URL:https://patiambun.nadi.my/event/kelas-asas-microsoft-word-4/
CATEGORIES:DEFAULT
END:VEVENT
BEGIN:VEVENT
DTSTART;TZID=UTC:20240402T080000
DTEND;TZID=UTC:20240430T170000
DTSTAMP:20260424T150559
CREATED:20240408T100927Z
LAST-MODIFIED:20240408T100927Z
UID:1924-1712044800-1714496400@patiambun.nadi.my
SUMMARY:Kursus Latihan Pengendalian Makanan
DESCRIPTION:
URL:https://patiambun.nadi.my/event/kursus-latihan-pengendalian-makanan-2/
CATEGORIES:DEFAULT
END:VEVENT
BEGIN:VEVENT
DTSTART;TZID=UTC:20240323T093000
DTEND;TZID=UTC:20240323T113000
DTSTAMP:20260424T150559
CREATED:20240307T092732Z
LAST-MODIFIED:20240307T092732Z
UID:1921-1711186200-1711193400@patiambun.nadi.my
SUMMARY:Kelas Keusahawanan:Kelas Affiliate Tiktok & Asas Shopee
DESCRIPTION:
URL:https://patiambun.nadi.my/event/kelas-keusahawanankelas-affiliate-tiktok-asas-shopee/
CATEGORIES:DEFAULT
END:VEVENT
BEGIN:VEVENT
DTSTART;TZID=UTC:20240317T143000
DTEND;TZID=UTC:20240317T160000
DTSTAMP:20260424T150559
CREATED:20240307T091529Z
LAST-MODIFIED:20240307T091529Z
UID:1918-1710685800-1710691200@patiambun.nadi.my
SUMMARY:Kelas Asas Microsoft Word
DESCRIPTION:
URL:https://patiambun.nadi.my/event/kelas-asas-microsoft-word-3/
CATEGORIES:DEFAULT
END:VEVENT
BEGIN:VEVENT
DTSTART;TZID=UTC:20240316T093000
DTEND;TZID=UTC:20240316T120000
DTSTAMP:20260424T150559
CREATED:20240307T092228Z
LAST-MODIFIED:20240307T092228Z
UID:1919-1710581400-1710590400@patiambun.nadi.my
SUMMARY:Kelas STEM/IOT
DESCRIPTION:
URL:https://patiambun.nadi.my/event/kelas-stem-iot-2/
CATEGORIES:DEFAULT
END:VEVENT
BEGIN:VEVENT
DTSTART;TZID=UTC:20240310T143000
DTEND;TZID=UTC:20240310T160000
DTSTAMP:20260424T150559
CREATED:20240307T091435Z
LAST-MODIFIED:20240307T091435Z
UID:1917-1710081000-1710086400@patiambun.nadi.my
SUMMARY:Kelas Asas Microsoft Word
DESCRIPTION:
URL:https://patiambun.nadi.my/event/kelas-asas-microsoft-word-2/
CATEGORIES:DEFAULT
END:VEVENT
BEGIN:VEVENT
DTSTART;TZID=UTC:20240301T000000
DTEND;TZID=UTC:20240330T235959
DTSTAMP:20260424T150559
CREATED:20240307T092506Z
LAST-MODIFIED:20240307T092506Z
UID:1920-1709251200-1711843199@patiambun.nadi.my
SUMMARY:Kursus latihan Pengendalian Makanan
DESCRIPTION:
URL:https://patiambun.nadi.my/event/kursus-latihan-pengendalian-makanan/
CATEGORIES:DEFAULT
END:VEVENT
BEGIN:VEVENT
DTSTART;TZID=UTC:20240225T090000
DTEND;TZID=UTC:20240225T140000
DTSTAMP:20260424T150559
CREATED:20240203T111250Z
LAST-MODIFIED:20240203T111250Z
UID:1916-1708851600-1708869600@patiambun.nadi.my
SUMMARY:Keusahawan:Tamu PEDI Patiambun
DESCRIPTION:
URL:https://patiambun.nadi.my/event/keusahawantamu-pedi-patiambun/
CATEGORIES:DEFAULT
END:VEVENT
BEGIN:VEVENT
DTSTART;TZID=UTC:20240224T090000
DTEND;TZID=UTC:20240224T130000
DTSTAMP:20260424T150559
CREATED:20240203T111206Z
LAST-MODIFIED:20240203T111206Z
UID:1915-1708765200-1708779600@patiambun.nadi.my
SUMMARY:PEDI Mini Program 2024
DESCRIPTION:
URL:https://patiambun.nadi.my/event/pedi-mini-program-2024/
CATEGORIES:DEFAULT
END:VEVENT
BEGIN:VEVENT
DTSTART;TZID=UTC:20240218T093000
DTEND;TZID=UTC:20240218T120000
DTSTAMP:20260424T150559
CREATED:20240203T111109Z
LAST-MODIFIED:20240203T111109Z
UID:1914-1708248600-1708257600@patiambun.nadi.my
SUMMARY:Kelas Stem/IOT
DESCRIPTION:
URL:https://patiambun.nadi.my/event/kelas-stem-iot/
CATEGORIES:DEFAULT
END:VEVENT
BEGIN:VEVENT
DTSTART;TZID=UTC:20240217T143000
DTEND;TZID=UTC:20240217T160000
DTSTAMP:20260424T150559
CREATED:20240203T111017Z
LAST-MODIFIED:20240203T111017Z
UID:1913-1708180200-1708185600@patiambun.nadi.my
SUMMARY:Kelas Asas Microsoft Power Point
DESCRIPTION:
URL:https://patiambun.nadi.my/event/kelas-asas-microsoft-power-point/
CATEGORIES:DEFAULT
END:VEVENT
BEGIN:VEVENT
DTSTART;TZID=UTC:20240127T090000
DTEND;TZID=UTC:20240127T130000
DTSTAMP:20260424T150559
CREATED:20240107T104605Z
LAST-MODIFIED:20240107T104605Z
UID:1912-1706346000-1706360400@patiambun.nadi.my
SUMMARY:Keusahawanan:Tamu Pedi Patiambun
DESCRIPTION:
URL:https://patiambun.nadi.my/event/keusahawanantamu-pedi-patiambun/
CATEGORIES:DEFAULT
END:VEVENT
BEGIN:VEVENT
DTSTART;TZID=UTC:20240119T143000
DTEND;TZID=UTC:20240119T163000
DTSTAMP:20260424T150559
CREATED:20240107T104455Z
LAST-MODIFIED:20240107T104455Z
UID:1911-1705674600-1705681800@patiambun.nadi.my
SUMMARY:Kelas Stem/IOT:Factory Balls
DESCRIPTION:
URL:https://patiambun.nadi.my/event/kelas-stem-iotfactory-balls-2/
CATEGORIES:DEFAULT
END:VEVENT
BEGIN:VEVENT
DTSTART;TZID=UTC:20240112T143000
DTEND;TZID=UTC:20240112T163000
DTSTAMP:20260424T150559
CREATED:20240107T104258Z
LAST-MODIFIED:20240107T104258Z
UID:1910-1705069800-1705077000@patiambun.nadi.my
SUMMARY:Kelas Asas Microsoft Word
DESCRIPTION:
URL:https://patiambun.nadi.my/event/kelas-asas-microsoft-word/
CATEGORIES:DEFAULT
END:VEVENT
BEGIN:VEVENT
DTSTART;TZID=UTC:20240102T080000
DTEND;TZID=UTC:20240108T170000
DTSTAMP:20260424T150559
CREATED:20240107T104152Z
LAST-MODIFIED:20240107T104152Z
UID:1909-1704182400-1704733200@patiambun.nadi.my
SUMMARY:Kaunter Fizikal PADU
DESCRIPTION:
URL:https://patiambun.nadi.my/event/kaunter-fizikal-padu/
CATEGORIES:DEFAULT
END:VEVENT
BEGIN:VEVENT
DTSTART;TZID=UTC:20231216T143000
DTEND;TZID=UTC:20231216T160000
DTSTAMP:20260424T150559
CREATED:20231211T084702Z
LAST-MODIFIED:20231211T084702Z
UID:1908-1702737000-1702742400@patiambun.nadi.my
SUMMARY:Kelas Stem/IOT:Factory Balls
DESCRIPTION:
URL:https://patiambun.nadi.my/event/kelas-stem-iotfactory-balls/
CATEGORIES:DEFAULT
END:VEVENT
BEGIN:VEVENT
DTSTART;TZID=UTC:20231216T093000
DTEND;TZID=UTC:20231216T120000
DTSTAMP:20260424T150559
CREATED:20231211T084602Z
LAST-MODIFIED:20231211T084602Z
UID:1907-1702719000-1702728000@patiambun.nadi.my
SUMMARY:Kelas Kemahiran Keusahawanan
DESCRIPTION:
URL:https://patiambun.nadi.my/event/kelas-kemahiran-keusahawanan/
CATEGORIES:DEFAULT
END:VEVENT
BEGIN:VEVENT
DTSTART;TZID=UTC:20231215T143000
DTEND;TZID=UTC:20231215T160000
DTSTAMP:20260424T150559
CREATED:20231211T084420Z
LAST-MODIFIED:20231211T084420Z
UID:1906-1702650600-1702656000@patiambun.nadi.my
SUMMARY:Kelas Power Typing:Word
DESCRIPTION:
URL:https://patiambun.nadi.my/event/kelas-power-typingword/
CATEGORIES:DEFAULT
END:VEVENT
BEGIN:VEVENT
DTSTART;TZID=UTC:20231119T100000
DTEND;TZID=UTC:20231119T120000
DTSTAMP:20260424T150559
CREATED:20231103T115633Z
LAST-MODIFIED:20231103T115633Z
UID:1902-1700388000-1700395200@patiambun.nadi.my
SUMMARY:Kelas Microsoft Office Outlook
DESCRIPTION:
URL:https://patiambun.nadi.my/event/kelas-microsoft-office-outlook-3/
CATEGORIES:DEFAULT
END:VEVENT
BEGIN:VEVENT
DTSTART;TZID=UTC:20231118T090000
DTEND;TZID=UTC:20231118T130000
DTSTAMP:20260424T150559
CREATED:20231116T084819Z
LAST-MODIFIED:20231116T084819Z
UID:1905-1700298000-1700312400@patiambun.nadi.my
SUMMARY:Jualan Usahawan : Lubuk Dessert RM1
DESCRIPTION:
URL:https://patiambun.nadi.my/event/jualan-usahawan-lubuk-dessert-rm1/
CATEGORIES:DEFAULT
END:VEVENT
BEGIN:VEVENT
DTSTART;TZID=UTC:20231118T090000
DTEND;TZID=UTC:20231118T130000
DTSTAMP:20260424T150559
CREATED:20231103T115735Z
LAST-MODIFIED:20231103T115735Z
UID:1903-1700298000-1700312400@patiambun.nadi.my
SUMMARY:Advokasi Klik Dengan Bijak Bersama Sukarelawan MIV
DESCRIPTION:
URL:https://patiambun.nadi.my/event/advokasi-klik-dengan-bijak-bersama-sukarelawan-miv-2/
CATEGORIES:DEFAULT
END:VEVENT
BEGIN:VEVENT
DTSTART;TZID=UTC:20231118T090000
DTEND;TZID=UTC:20231118T123000
DTSTAMP:20260424T150559
CREATED:20231116T084753Z
LAST-MODIFIED:20231116T084753Z
UID:1904-1700298000-1700310600@patiambun.nadi.my
SUMMARY:Kelas Persiapan Temuduga & Penulisan Resume
DESCRIPTION:
URL:https://patiambun.nadi.my/event/kelas-persiapan-temuduga-penulisan-resume/
CATEGORIES:DEFAULT
END:VEVENT
BEGIN:VEVENT
DTSTART;TZID=UTC:20231112T100000
DTEND;TZID=UTC:20231112T120000
DTSTAMP:20260424T150559
CREATED:20231103T115530Z
LAST-MODIFIED:20231103T115530Z
UID:1901-1699783200-1699790400@patiambun.nadi.my
SUMMARY:Kelas Microsoft Power Point & Excel
DESCRIPTION:
URL:https://patiambun.nadi.my/event/kelas-microsoft-power-point-excel/
CATEGORIES:DEFAULT
END:VEVENT
BEGIN:VEVENT
DTSTART;TZID=UTC:20231104T100000
DTEND;TZID=UTC:20231104T120000
DTSTAMP:20260424T150559
CREATED:20231103T115437Z
LAST-MODIFIED:20231103T115437Z
UID:1900-1699092000-1699099200@patiambun.nadi.my
SUMMARY:Kelas Keusahawanan-SETLE-KAN Pemasaran Digital Anda Dengan Kuasai AI
DESCRIPTION:
URL:https://patiambun.nadi.my/event/kelas-keusahawanan-setle-kan-pemasaran-digital-anda-dengan-kuasai-ai/
CATEGORIES:DEFAULT
END:VEVENT
BEGIN:VEVENT
DTSTART;TZID=UTC:20231029T100000
DTEND;TZID=UTC:20231029T120000
DTSTAMP:20260424T150559
CREATED:20231011T092941Z
LAST-MODIFIED:20231011T092941Z
UID:1898-1698573600-1698580800@patiambun.nadi.my
SUMMARY:Kelas Microsoft Office Power Point
DESCRIPTION:
URL:https://patiambun.nadi.my/event/kelas-microsoft-office-power-point-2/
CATEGORIES:DEFAULT
END:VEVENT
BEGIN:VEVENT
DTSTART;TZID=UTC:20231028T093000
DTEND;TZID=UTC:20231028T233000
DTSTAMP:20260424T150559
CREATED:20231011T092823Z
LAST-MODIFIED:20231011T092823Z
UID:1897-1698485400-1698535800@patiambun.nadi.my
SUMMARY:Kemahiran Keusahawanan:Kelas Membuat Mini Bouqet
DESCRIPTION:
URL:https://patiambun.nadi.my/event/kemahiran-keusahawanankelas-membuat-mini-bouqet/
CATEGORIES:DEFAULT
END:VEVENT
BEGIN:VEVENT
DTSTART;TZID=UTC:20231022T100000
DTEND;TZID=UTC:20231022T120000
DTSTAMP:20260424T150559
CREATED:20231011T092627Z
LAST-MODIFIED:20231011T092627Z
UID:1895-1697968800-1697976000@patiambun.nadi.my
SUMMARY:Kelas Microsoft Office Outlook
DESCRIPTION:
URL:https://patiambun.nadi.my/event/kelas-microsoft-office-outlook/
CATEGORIES:DEFAULT
END:VEVENT
BEGIN:VEVENT
DTSTART;TZID=UTC:20231022T100000
DTEND;TZID=UTC:20231022T120000
DTSTAMP:20260424T150559
CREATED:20231011T092627Z
LAST-MODIFIED:20231011T092627Z
UID:1896-1697968800-1697976000@patiambun.nadi.my
SUMMARY:Kelas Microsoft Office Outlook
DESCRIPTION:
URL:https://patiambun.nadi.my/event/kelas-microsoft-office-outlook-2/
CATEGORIES:DEFAULT
END:VEVENT
BEGIN:VEVENT
DTSTART;TZID=UTC:20231020T023000
DTEND;TZID=UTC:20231020T163000
DTSTAMP:20260424T150559
CREATED:20231011T092530Z
LAST-MODIFIED:20231011T092530Z
UID:1894-1697769000-1697819400@patiambun.nadi.my
SUMMARY:Stem Challenges
DESCRIPTION:
URL:https://patiambun.nadi.my/event/stem-challenges/
CATEGORIES:DEFAULT
END:VEVENT
BEGIN:VEVENT
DTSTART;TZID=UTC:20231015T100000
DTEND;TZID=UTC:20231015T120000
DTSTAMP:20260424T150559
CREATED:20231011T092422Z
LAST-MODIFIED:20231011T092422Z
UID:1893-1697364000-1697371200@patiambun.nadi.my
SUMMARY:Kelas Microsoft Office Word & Excel
DESCRIPTION:
URL:https://patiambun.nadi.my/event/kelas-microsoft-office-word-excel/
CATEGORIES:DEFAULT
END:VEVENT
END:VCALENDAR