BEGIN:VCALENDAR
VERSION:2.0
PRODID:-//NADI Patiambun - ECPv6.15.13.1//NONSGML v1.0//EN
CALSCALE:GREGORIAN
METHOD:PUBLISH
X-WR-CALNAME:NADI Patiambun
X-ORIGINAL-URL:https://patiambun.nadi.my
X-WR-CALDESC:Events for NADI Patiambun
REFRESH-INTERVAL;VALUE=DURATION:PT1H
X-Robots-Tag:noindex
X-PUBLISHED-TTL:PT1H
BEGIN:VTIMEZONE
TZID:UTC
BEGIN:STANDARD
TZOFFSETFROM:+0000
TZOFFSETTO:+0000
TZNAME:UTC
DTSTART:20230101T000000
END:STANDARD
END:VTIMEZONE
BEGIN:VEVENT
DTSTART;TZID=UTC:20240902T080000
DTEND;TZID=UTC:20240902T170000
DTSTAMP:20260424T230911
CREATED:20240901T121408Z
LAST-MODIFIED:20240901T121408Z
UID:1953-1725264000-1725296400@patiambun.nadi.my
SUMMARY:Program Kesedaran & Advokasi
DESCRIPTION:
URL:https://patiambun.nadi.my/event/program-kesedaran-advokasi/
CATEGORIES:DEFAULT
END:VEVENT
BEGIN:VEVENT
DTSTART;TZID=UTC:20240907T090000
DTEND;TZID=UTC:20240907T110000
DTSTAMP:20260424T230911
CREATED:20240901T120828Z
LAST-MODIFIED:20240901T120828Z
UID:1949-1725699600-1725706800@patiambun.nadi.my
SUMMARY:Kelas ICT: Kelas Asas Microsoft Word
DESCRIPTION:
URL:https://patiambun.nadi.my/event/kelas-ict-kelas-asas-microsoft-word/
CATEGORIES:DEFAULT
END:VEVENT
BEGIN:VEVENT
DTSTART;TZID=UTC:20240912T020000
DTEND;TZID=UTC:20240912T160000
DTSTAMP:20260424T230911
CREATED:20240901T120945Z
LAST-MODIFIED:20240901T120945Z
UID:1950-1726106400-1726156800@patiambun.nadi.my
SUMMARY:Kelas Asas Canva
DESCRIPTION:
URL:https://patiambun.nadi.my/event/kelas-asas-canva-2/
CATEGORIES:DEFAULT
END:VEVENT
BEGIN:VEVENT
DTSTART;TZID=UTC:20240914T090000
DTEND;TZID=UTC:20240914T100000
DTSTAMP:20260424T230911
CREATED:20240901T121138Z
LAST-MODIFIED:20240901T121138Z
UID:1951-1726304400-1726308000@patiambun.nadi.my
SUMMARY:Kelas ICT: Kelas Asas Microsoft Powerpoint
DESCRIPTION:
URL:https://patiambun.nadi.my/event/kelas-ict-kelas-asas-microsoft-powerpoint/
CATEGORIES:DEFAULT
END:VEVENT
BEGIN:VEVENT
DTSTART;TZID=UTC:20240921T143000
DTEND;TZID=UTC:20240921T163000
DTSTAMP:20260424T230911
CREATED:20240901T121243Z
LAST-MODIFIED:20240901T121243Z
UID:1952-1726929000-1726936200@patiambun.nadi.my
SUMMARY:Kelas Kemahiran Keusahawanan
DESCRIPTION:
URL:https://patiambun.nadi.my/event/kelas-kemahiran-keusahawanan-4/
CATEGORIES:DEFAULT
END:VEVENT
END:VCALENDAR