BEGIN:VCALENDAR
VERSION:2.0
PRODID:-//NADI Patiambun - ECPv6.15.13.1//NONSGML v1.0//EN
CALSCALE:GREGORIAN
METHOD:PUBLISH
X-WR-CALNAME:NADI Patiambun
X-ORIGINAL-URL:https://patiambun.nadi.my
X-WR-CALDESC:Events for NADI Patiambun
REFRESH-INTERVAL;VALUE=DURATION:PT1H
X-Robots-Tag:noindex
X-PUBLISHED-TTL:PT1H
BEGIN:VTIMEZONE
TZID:UTC
BEGIN:STANDARD
TZOFFSETFROM:+0000
TZOFFSETTO:+0000
TZNAME:UTC
DTSTART:20240101T000000
END:STANDARD
END:VTIMEZONE
BEGIN:VEVENT
DTSTART;TZID=UTC:20250303T093000
DTEND;TZID=UTC:20250303T223000
DTSTAMP:20260420T170950
CREATED:20250302T025852Z
LAST-MODIFIED:20250302T025852Z
UID:2349-1740994200-1741041000@patiambun.nadi.my
SUMMARY:NADI X Pembelajaran Sepanjang Hidup (Mahir Jahit)
DESCRIPTION:
URL:https://patiambun.nadi.my/event/nadi-x-pembelajaran-sepanjang-hidup-mahir-jahit/
LOCATION:NADI Patiambun
END:VEVENT
BEGIN:VEVENT
DTSTART;TZID=UTC:20250306T140000
DTEND;TZID=UTC:20250306T150000
DTSTAMP:20260420T170950
CREATED:20250302T010323Z
LAST-MODIFIED:20250302T010323Z
UID:2276-1741269600-1741273200@patiambun.nadi.my
SUMMARY:Kelas Masakan Nyonya bersama Florence Tan
DESCRIPTION:
URL:https://patiambun.nadi.my/event/kelas-masakan-nyonya-bersama-florence-tan/
LOCATION:NADI Patiambun
END:VEVENT
BEGIN:VEVENT
DTSTART;TZID=UTC:20250315T090000
DTEND;TZID=UTC:20250315T120000
DTSTAMP:20260420T170950
CREATED:20250314T032128Z
LAST-MODIFIED:20250314T032128Z
UID:2365-1742029200-1742040000@patiambun.nadi.my
SUMMARY:Pertandingan MLBB Musim Ke-2
DESCRIPTION:
URL:https://patiambun.nadi.my/event/pertandingan-mlbb-musim-ke-2/
LOCATION:NADI Patiambun
END:VEVENT
BEGIN:VEVENT
DTSTART;TZID=UTC:20250315T140000
DTEND;TZID=UTC:20250315T153000
DTSTAMP:20260420T170950
CREATED:20250314T032029Z
LAST-MODIFIED:20250314T032029Z
UID:2363-1742047200-1742052600@patiambun.nadi.my
SUMMARY:Ancaman Siber Dalam E-Sport
DESCRIPTION:
URL:https://patiambun.nadi.my/event/ancaman-siber-dalam-e-sport/
LOCATION:NADI Patiambun
END:VEVENT
BEGIN:VEVENT
DTSTART;TZID=UTC:20250325T093000
DTEND;TZID=UTC:20250325T230000
DTSTAMP:20260420T170950
CREATED:20250323T012940Z
LAST-MODIFIED:20250323T012940Z
UID:2373-1742895000-1742943600@patiambun.nadi.my
SUMMARY:MAHIR MASAK: CARA PEMBUATAN PIE QUICHE
DESCRIPTION:
URL:https://patiambun.nadi.my/event/mahir-masak-cara-pembuatan-pie-quiche/
LOCATION:NADI Patiambun
END:VEVENT
BEGIN:VEVENT
DTSTART;TZID=UTC:20250329T080000
DTEND;TZID=UTC:20250329T160000
DTSTAMP:20260420T170950
CREATED:20250314T032232Z
LAST-MODIFIED:20250314T032232Z
UID:2367-1743235200-1743264000@patiambun.nadi.my
SUMMARY:Kelas Pensijilan E-Sport
DESCRIPTION:
URL:https://patiambun.nadi.my/event/kelas-pensijilan-e-sport/
LOCATION:NADI Patiambun
END:VEVENT
END:VCALENDAR