BEGIN:VCALENDAR
VERSION:2.0
PRODID:-//NADI Patiambun - ECPv6.15.13.1//NONSGML v1.0//EN
CALSCALE:GREGORIAN
METHOD:PUBLISH
X-WR-CALNAME:NADI Patiambun
X-ORIGINAL-URL:https://patiambun.nadi.my
X-WR-CALDESC:Events for NADI Patiambun
REFRESH-INTERVAL;VALUE=DURATION:PT1H
X-Robots-Tag:noindex
X-PUBLISHED-TTL:PT1H
BEGIN:VTIMEZONE
TZID:UTC
BEGIN:STANDARD
TZOFFSETFROM:+0000
TZOFFSETTO:+0000
TZNAME:UTC
DTSTART:20240101T000000
END:STANDARD
END:VTIMEZONE
BEGIN:VEVENT
DTSTART;TZID=UTC:20250412T140000
DTEND;TZID=UTC:20250412T160000
DTSTAMP:20260419T162656
CREATED:20250409T010735Z
LAST-MODIFIED:20250409T010735Z
UID:2486-1744466400-1744473600@patiambun.nadi.my
SUMMARY:Mahir Foto: Tips Untuk Content Creator
DESCRIPTION:
URL:https://patiambun.nadi.my/event/mahir-foto-tips-untuk-content-creator/
LOCATION:NADI Patiambun
END:VEVENT
BEGIN:VEVENT
DTSTART;TZID=UTC:20250412T143000
DTEND;TZID=UTC:20250412T163000
DTSTAMP:20260419T162656
CREATED:20250409T010621Z
LAST-MODIFIED:20250409T010621Z
UID:2484-1744468200-1744475400@patiambun.nadi.my
SUMMARY:Pembelajaran Sepanjang Hayat (Webinar Berkala: Sejarah)
DESCRIPTION:
URL:https://patiambun.nadi.my/event/pembelajaran-sepanjang-hayat-webinar-berkala-sejarah/
LOCATION:NADI Patiambun
END:VEVENT
BEGIN:VEVENT
DTSTART;TZID=UTC:20250419T080000
DTEND;TZID=UTC:20250419T170000
DTSTAMP:20260419T162656
CREATED:20250409T010831Z
LAST-MODIFIED:20250409T010831Z
UID:2488-1745049600-1745082000@patiambun.nadi.my
SUMMARY:E-Sport LMS
DESCRIPTION:
URL:https://patiambun.nadi.my/event/e-sport-lms/
LOCATION:NADI Patiambun
END:VEVENT
END:VCALENDAR